BEGIN:VCALENDAR
METHOD:PUBLISH
VERSION:2.0
PRODID:-//WoltLab GmbH//WoltLab Suite Calendar 5.4//EN
CALSCALE:GREGORIAN
X-WR-CALNAME;VALUE=TEXT:AFDIA Zoom Book Club Meeting. Final Session - Recap
  and Discussion of Article \"Problems In Frances Wright's AFDIA\"
BEGIN:VEVENT
TRANSP:OPAQUE
UID:event-64@www.epicureanfriends.com
URL:https://www.epicureanfriends.com/wcf/calendar/event/1655-afdia-zoom-boo
 k-club-meeting-final-session-recap-and-discussion-of-article-probl/
DTSTART:20220522T120000Z
DTSTAMP:20220522T120000Z
CREATED:20220522T120000Z
SUMMARY:AFDIA Zoom Book Club Meeting. Final Session - Recap and Discussion 
 of Article \"Problems In Frances Wright's AFDIA\"
DESCRIPTION:\"A Few Days In Athens\" Zoom Book Club Meeting. Final Session\
 n\nThis week we will go through final reactions to the book in general and 
 to Frances Wright.\n\nWe will also discuss the article at EpicureanFriends 
 entitled:   Problems in Frances Wright's \"A Few Days in Athens\" [URL:http
 s://www.epicureanfriends.com/index.php?thread/1729-problems-in-frances-wrig
 ht-s-a-few-days-in-athens/]\n\n\nImportant Links:\n\nLink to PDF of the ori
 ginal book at Archive.org. [URL:https://archive.org/details/fewdaysinathens
 b00wrigiala?view=theater#page/n5/mode/2up]\n\nAFDIA Website with the entire
  book:  http://www.afewdaysinathens.com [URL:http://www.afewdaysinathens.co
 m/]\n\nRECURRING ZOOM LINK - USE THIS EACH SESSION:\n\n\n\nTopic: A Few Day
 s In Athens - Zoom Book Review 2022\n\nTime: This is a recurring meeting\n\
 nJoin Zoom Meeting\n\nhttps://us06web.zoom.us/j/85285185334?pwd=WnJWRWNkbkp
 qQVVTY2gyaWdHQzEyQT09\n\nMeeting ID: 852 8518 5334\n\nPasscode: 219879\n\nO
 ne tap mobile\n\n+16468769923\,\,85285185334#\,\,\,\,*219879# US (New York)
 \n\n+13017158592\,\,85285185334#\,\,\,\,*219879# US (Washington DC)\n\nDial
  by your location\n\n+1 646 876 9923 US (New York)\n\n+1 301 715 8592 US (W
 ashington DC)\n\n+1 312 626 6799 US (Chicago)\n\n+1 408 638 0968 US (San Jo
 se)\n\n+1 669 900 6833 US (San Jose)\n\n+1 253 215 8782 US (Tacoma)\n\n+1 3
 46 248 7799 US (Houston)\n\nMeeting ID: 852 8518 5334\n\nPasscode: 219879\n
 \nFind your local number: https://us06web.zoom.us/u/kecx4HCZfV
DTEND:20220523T000000Z
END:VEVENT
END:VCALENDAR
