BEGIN:VCALENDAR
METHOD:PUBLISH
VERSION:2.0
PRODID:-//WoltLab GmbH//WoltLab Suite Calendar 5.4//EN
CALSCALE:GREGORIAN
X-WR-CALNAME;VALUE=TEXT:Jefferson's Birthday
BEGIN:VEVENT
TRANSP:TRANSPARENT
UID:event-57@www.epicureanfriends.com
URL:https://www.epicureanfriends.com/wcf/calendar/event/1518-jefferson-s-bi
 rthday/
DTSTART;VALUE=DATE:20220413
DTSTAMP:20220413T000000Z
CREATED:20220413T000000Z
SUMMARY:Jefferson's Birthday
DESCRIPTION:Thanks to Joshua for suggesting this. At first I labeled it \"T
 homas Jefferson's Birthday\" but the shorter version is easier to read on t
 he calendar and I doubt there is any real question as to who is being refer
 enced.   With Frances Wright and some others\, however\, we probably need f
 irst and last names.
DTEND;VALUE=DATE:20220414
RRULE:FREQ=YEARLY;INTERVAL=1;BYMONTHDAY=13;BYMONTH=4;WKST=SU
END:VEVENT
END:VCALENDAR
