BEGIN:VCALENDAR
METHOD:PUBLISH
VERSION:2.0
PRODID:-//WoltLab GmbH//WoltLab Suite Calendar 5.4//EN
CALSCALE:GREGORIAN
X-WR-CALNAME;VALUE=TEXT:Re-Discovery of Herculaneum
BEGIN:VEVENT
TRANSP:TRANSPARENT
UID:event-14@www.epicureanfriends.com
URL:https://www.epicureanfriends.com/wcf/calendar/event/88-re-discovery-of-
 herculaneum/
DTSTART;VALUE=DATE:20181016
DTSTAMP:20181016T000000Z
CREATED:20181016T000000Z
SUMMARY:Re-Discovery of Herculaneum
DESCRIPTION:Philodemus’ library was discovered on this date in 1752.
DTEND;VALUE=DATE:20181017
CATEGORIES:Philodemus,Herculaneum
END:VEVENT
END:VCALENDAR
