BEGIN:VCALENDAR
METHOD:PUBLISH
VERSION:2.0
PRODID:-//WoltLab GmbH//WoltLab Suite Calendar 5.4//EN
CALSCALE:GREGORIAN
X-WR-CALNAME;VALUE=TEXT:Epicurea Agenda
BEGIN:VEVENT
TRANSP:OPAQUE
UID:event-76@www.epicureanfriends.com
URL:http://www.epicureanfriends.com/wcf/calendar/event/2353-epicurea-agenda
 /
DTSTART:20240411T000000Z
DTSTAMP:20240411T000000Z
CREATED:20240411T000000Z
SUMMARY:Epicurea Agenda
DESCRIPTION:Join us as we study Usener's Epicurea - Beginning on April 3\, 
 2024 - Every Wednesday night 8pm ET - Via Zoom - running for about an hour.
 \n\nOpen to LEVEL 03 forum members. LEVEL 01 members can attend after appro
 val by the moderator team.\n\nEach meeting we will take one or more of the 
 fragments and discuss the meaning and practical application to living the p
 hilosophy of Epicurus.\n\nThis discussion group is an open group\, so you c
 an drop in on any week\, but of course we hope you will join us on a weekly
  basis\, as this is sure to provide new insights into the philosophy of Epi
 curus. If you have previously attended a Wednesday night Zoom\, then you ca
 n simply join in with the same link as previous Wednesday night meetings.\n
 \nFor Level 03 (Established Members) who haven't yet attended a Wednesday n
 ight meeting\, please go here to let us know if you are interested in atten
 ding by posting in the thread with the upcoming week's agenda [URL:http://w
 ww.epicureanfriends.com/board/688-wednesday-night-weekly-epicurean-philosop
 hy-discussion-via-zoom/]-- or send a private message to Cassius or Kalosyni
  (we will get you the Zoom link to you by private message).\n\nLevel 01 (In
 troductory Members) - message Cassius for pre-approval by the moderator tea
 m.\n\nWe will be going through these fragments sequentially from start to f
 inish\, but we will be skipping the Diogenes Laertius Book 10 fragments and
  any short fragments without substance. You can find our Fragment Collectio
 n here [URL:http://www.epicureanfriends.com/wcf/lexicon/entry/137-epicurean
 friends-topical-fragment-collection/].\n\nWe will announce before each meet
 ing which ones we will be covering. You can find updates about each meeting
 's focus over on this forum thread. [URL:http://www.epicureanfriends.com/bo
 ard/688-wednesday-night-weekly-epicurean-philosophy-discussion-via-zoom/]\n
 \n\n\nThe link for tonight is:
DTEND:20240411T010000Z
END:VEVENT
END:VCALENDAR
