BEGIN:VCALENDAR
METHOD:PUBLISH
VERSION:2.0
PRODID:-//WoltLab GmbH//WoltLab Suite Calendar 5.4//EN
CALSCALE:GREGORIAN
X-WR-CALNAME;VALUE=TEXT:Epicurean Celebrity Birthdays
BEGIN:VEVENT
TRANSP:TRANSPARENT
UID:event-57@www.epicureanfriends.com
URL:http://www.epicureanfriends.com/wcf/calendar/event/1518-jefferson-s-bir
 thday/
DTSTART;VALUE=DATE:20220413
DTSTAMP:20220413T000000Z
CREATED:20220413T000000Z
SUMMARY:Jefferson's Birthday
DESCRIPTION:Thanks to Joshua for suggesting this. At first I labeled it \"T
 homas Jefferson's Birthday\" but the shorter version is easier to read on t
 he calendar and I doubt there is any real question as to who is being refer
 enced.   With Frances Wright and some others\, however\, we probably need f
 irst and last names.
DTEND;VALUE=DATE:20220414
RRULE:FREQ=YEARLY;INTERVAL=1;BYMONTHDAY=13;BYMONTH=4;WKST=SU
END:VEVENT
BEGIN:VEVENT
TRANSP:TRANSPARENT
UID:event-58@www.epicureanfriends.com
URL:http://www.epicureanfriends.com/wcf/calendar/event/1534-frances-wright-
 s-birthday/
DTSTART;VALUE=DATE:20220906
DTSTAMP:20220906T000000Z
CREATED:20220906T000000Z
SUMMARY:Frances Wright's Birthday
DESCRIPTION:Thanks to Joshua For Suggesting This.
DTEND;VALUE=DATE:20220907
RRULE:FREQ=YEARLY;INTERVAL=1;BYMONTHDAY=6;BYMONTH=9;WKST=SU
END:VEVENT
BEGIN:VEVENT
TRANSP:TRANSPARENT
UID:event-72@www.epicureanfriends.com
URL:http://www.epicureanfriends.com/wcf/calendar/event/2082-birthday-of-qui
 ntus-horatius-flaccus-called-horace/
DTSTART;VALUE=DATE:20231207
DTSTAMP:20231207T000000Z
CREATED:20231207T000000Z
SUMMARY:Birthday of Quintus Horatius Flaccus\, Called Horace
DTEND;VALUE=DATE:20231209
RRULE:FREQ=YEARLY;INTERVAL=1;BYMONTHDAY=8;BYMONTH=12;WKST=SU
CATEGORIES:Horace
END:VEVENT
BEGIN:VEVENT
TRANSP:TRANSPARENT
UID:event-75@www.epicureanfriends.com
URL:http://www.epicureanfriends.com/wcf/calendar/event/2314-birthday-of-pub
 lius-ovidius-naso/
DTSTART;VALUE=DATE:20240320
DTSTAMP:20240320T000000Z
CREATED:20240320T000000Z
SUMMARY:Birthday of Publius Ovidius Naso
DESCRIPTION:Anniversary of the birthday of Publius Ovidius Naso\, called Ov
 id.\n\n[…]
DTEND;VALUE=DATE:20240321
RRULE:FREQ=YEARLY;INTERVAL=1;BYMONTHDAY=20;BYMONTH=3;WKST=SU
END:VEVENT
END:VCALENDAR
